Workbook

Sheet Pupil Premium Primary
A1: Pupil Premium Students (FSM Ever 6, Children Looked After, Forces Children)
J2: Key Stage 1 | P2: End of Year | V2: Progress | AE2: Interventions
A3: Surname | B3: Forename | C3: Year | D3: Form | E3: EAL | F3: SA+ | G3: State. | H3: RA | I3: SA | J3: Read | K3: Write | L3: Maths | M3: r pts | N3: w pts | O3: Ma pts | P3: Read | Q3: Write | R3: Maths | S3: r pts | T3: w pts | U3: Ma pts | V3: Read | W3: Write | X3: Maths | Y3: exp | Z3: better | AA3: Attend | AB3: PA | AC3: Excl. | AD3: RAG | AE3: Previous | AF3: Required
M4: =VLOOKUP(J4,lookup!$F$2:$G$25,2,FALSE) -> #N/A | N4: =VLOOKUP(K4,lookup!$F$2:$G$25,2,FALSE) -> #N/A | O4: =VLOOKUP(L4,lookup!$F$2:$G$25,2,FALSE) -> #N/A | S4: =VLOOKUP(P4,lookup!$F$2:$G$25,2,FALSE) -> #N/A | T4: =VLOOKUP(Q4,lookup!$F$2:$G$25,2,FALSE) -> #N/A | U4: =VLOOKUP(R4,lookup!$F$2:$G$25,2,FALSE) -> #N/A | V4: =IF((S4-M4)>Z4,"Better",IF((S4-M4)<Z4,"Below",IF((S4-M4)=Y4,"ON","ON"))) -> #N/A | W4: =IF((T4-N4)>Z4,"Better",IF((T4-N4)<Y4,"Below",IF((T4-N4)=Y4,"ON","ON"))) -> #N/A | X4: =IF((U4-O4)>Z4,"Better",IF((U4-O4)<Y4,"Below",IF((U4-O4)=Y4,"ON","ON"))) -> #N/A | Y4: =VLOOKUP(C4,lookup!$A$7:$C$15,2,FALSE) -> #N/A | Z4: =VLOOKUP(C4,lookup!$A$7:$C$15,3,FALSE) -> #N/A
M5: =VLOOKUP(J5,lookup!$F$2:$G$25,2,FALSE) -> #N/A | N5: =VLOOKUP(K5,lookup!$F$2:$G$25,2,FALSE) -> #N/A | O5: =VLOOKUP(L5,lookup!$F$2:$G$25,2,FALSE) -> #N/A | S5: =VLOOKUP(P5,lookup!$F$2:$G$25,2,FALSE) -> #N/A | T5: =VLOOKUP(Q5,lookup!$F$2:$G$25,2,FALSE) -> #N/A | U5: =VLOOKUP(R5,lookup!$F$2:$G$25,2,FALSE) -> #N/A | V5: =IF((S5-M5)>Z5,"Better",IF((S5-M5)<Z5,"Below",IF((S5-M5)=Y5,"ON","ON"))) -> #N/A | W5: =IF((T5-N5)>Z5,"Better",IF((T5-N5)<Y5,"Below",IF((T5-N5)=Y5,"ON","ON"))) -> #N/A | X5: =IF((U5-O5)>Z5,"Better",IF((U5-O5)<Y5,"Below",IF((U5-O5)=Y5,"ON","ON"))) -> #N/A | Y5: =VLOOKUP(C5,lookup!$A$7:$C$15,2,FALSE) -> #N/A | Z5: =VLOOKUP(C5,lookup!$A$7:$C$15,3,FALSE) -> #N/A
M6: =VLOOKUP(J6,lookup!$F$2:$G$25,2,FALSE) -> #N/A | N6: =VLOOKUP(K6,lookup!$F$2:$G$25,2,FALSE) -> #N/A | O6: =VLOOKUP(L6,lookup!$F$2:$G$25,2,FALSE) -> #N/A | S6: =VLOOKUP(P6,lookup!$F$2:$G$25,2,FALSE) -> #N/A | T6: =VLOOKUP(Q6,lookup!$F$2:$G$25,2,FALSE) -> #N/A | U6: =VLOOKUP(R6,lookup!$F$2:$G$25,2,FALSE) -> #N/A | V6: =IF((S6-M6)>Z6,"Better",IF((S6-M6)<Z6,"Below",IF((S6-M6)=Y6,"ON","ON"))) -> #N/A | W6: =IF((T6-N6)>Z6,"Better",IF((T6-N6)<Y6,"Below",IF((T6-N6)=Y6,"ON","ON"))) -> #N/A | X6: =IF((U6-O6)>Z6,"Better",IF((U6-O6)<Y6,"Below",IF((U6-O6)=Y6,"ON","ON"))) -> #N/A | Y6: =VLOOKUP(C6,lookup!$A$7:$C$15,2,FALSE) -> #N/A | Z6: =VLOOKUP(C6,lookup!$A$7:$C$15,3,FALSE) -> #N/A
M7: =VLOOKUP(J7,lookup!$F$2:$G$25,2,FALSE) -> #N/A | N7: =VLOOKUP(K7,lookup!$F$2:$G$25,2,FALSE) -> #N/A | O7: =VLOOKUP(L7,lookup!$F$2:$G$25,2,FALSE) -> #N/A | S7: =VLOOKUP(P7,lookup!$F$2:$G$25,2,FALSE) -> #N/A | T7: =VLOOKUP(Q7,lookup!$F$2:$G$25,2,FALSE) -> #N/A | U7: =VLOOKUP(R7,lookup!$F$2:$G$25,2,FALSE) -> #N/A | V7: =IF((S7-M7)>Z7,"Better",IF((S7-M7)<Z7,"Below",IF((S7-M7)=Y7,"ON","ON"))) -> #N/A | W7: =IF((T7-N7)>Z7,"Better",IF((T7-N7)<Y7,"Below",IF((T7-N7)=Y7,"ON","ON"))) -> #N/A | X7: =IF((U7-O7)>Z7,"Better",IF((U7-O7)<Y7,"Below",IF((U7-O7)=Y7,"ON","ON"))) -> #N/A | Y7: =VLOOKUP(C7,lookup!$A$7:$C$15,2,FALSE) -> #N/A | Z7: =VLOOKUP(C7,lookup!$A$7:$C$15,3,FALSE) -> #N/A
M8: =VLOOKUP(J8,lookup!$F$2:$G$25,2,FALSE) -> #N/A | N8: =VLOOKUP(K8,lookup!$F$2:$G$25,2,FALSE) -> #N/A | O8: =VLOOKUP(L8,lookup!$F$2:$G$25,2,FALSE) -> #N/A | S8: =VLOOKUP(P8,lookup!$F$2:$G$25,2,FALSE) -> #N/A | T8: =VLOOKUP(Q8,lookup!$F$2:$G$25,2,FALSE) -> #N/A | U8: =VLOOKUP(R8,lookup!$F$2:$G$25,2,FALSE) -> #N/A | V8: =IF((S8-M8)>Z8,"Better",IF((S8-M8)<Z8,"Below",IF((S8-M8)=Y8,"ON","ON"))) -> #N/A | W8: =IF((T8-N8)>Z8,"Better",IF((T8-N8)<Y8,"Below",IF((T8-N8)=Y8,"ON","ON"))) -> #N/A | X8: =IF((U8-O8)>Z8,"Better",IF((U8-O8)<Y8,"Below",IF((U8-O8)=Y8,"ON","ON"))) -> #N/A | Y8: =VLOOKUP(C8,lookup!$A$7:$C$15,2,FALSE) -> #N/A | Z8: =VLOOKUP(C8,lookup!$A$7:$C$15,3,FALSE) -> #N/A
M9: =VLOOKUP(J9,lookup!$F$2:$G$25,2,FALSE) -> #N/A | N9: =VLOOKUP(K9,lookup!$F$2:$G$25,2,FALSE) -> #N/A | O9: =VLOOKUP(L9,lookup!$F$2:$G$25,2,FALSE) -> #N/A | S9: =VLOOKUP(P9,lookup!$F$2:$G$25,2,FALSE) -> #N/A | T9: =VLOOKUP(Q9,lookup!$F$2:$G$25,2,FALSE) -> #N/A | U9: =VLOOKUP(R9,lookup!$F$2:$G$25,2,FALSE) -> #N/A | V9: =IF((S9-M9)>Z9,"Better",IF((S9-M9)<Z9,"Below",IF((S9-M9)=Y9,"ON","ON"))) -> #N/A | W9: =IF((T9-N9)>Z9,"Better",IF((T9-N9)<Y9,"Below",IF((T9-N9)=Y9,"ON","ON"))) -> #N/A | X9: =IF((U9-O9)>Z9,"Better",IF((U9-O9)<Y9,"Below",IF((U9-O9)=Y9,"ON","ON"))) -> #N/A | Y9: =VLOOKUP(C9,lookup!$A$7:$C$15,2,FALSE) -> #N/A | Z9: =VLOOKUP(C9,lookup!$A$7:$C$15,3,FALSE) -> #N/A
M10: =VLOOKUP(J10,lookup!$F$2:$G$25,2,FALSE) -> #N/A | N10: =VLOOKUP(K10,lookup!$F$2:$G$25,2,FALSE) -> #N/A | O10: =VLOOKUP(L10,lookup!$F$2:$G$25,2,FALSE) -> #N/A | S10: =VLOOKUP(P10,lookup!$F$2:$G$25,2,FALSE) -> #N/A | T10: =VLOOKUP(Q10,lookup!$F$2:$G$25,2,FALSE) -> #N/A | U10: =VLOOKUP(R10,lookup!$F$2:$G$25,2,FALSE) -> #N/A | V10: =IF((S10-M10)>Z10,"Better",IF((S10-M10)<Z10,"Below",IF((S10-M10)=Y10,"ON","ON"))) -> #N/A | W10: =IF((T10-N10)>Z10,"Better",IF((T10-N10)<Y10,"Below",IF((T10-N10)=Y10,"ON","ON"))) -> #N/A | X10: =IF((U10-O10)>Z10,"Better",IF((U10-O10)<Y10,"Below",IF((U10-O10)=Y10,"ON","ON"))) -> #N/A | Y10: =VLOOKUP(C10,lookup!$A$7:$C$15,2,FALSE) -> #N/A | Z10: =VLOOKUP(C10,lookup!$A$7:$C$15,3,FALSE) -> #N/A
M11: =VLOOKUP(J11,lookup!$F$2:$G$25,2,FALSE) -> #N/A | N11: =VLOOKUP(K11,lookup!$F$2:$G$25,2,FALSE) -> #N/A | O11: =VLOOKUP(L11,lookup!$F$2:$G$25,2,FALSE) -> #N/A | S11: =VLOOKUP(P11,lookup!$F$2:$G$25,2,FALSE) -> #N/A | T11: =VLOOKUP(Q11,lookup!$F$2:$G$25,2,FALSE) -> #N/A | U11: =VLOOKUP(R11,lookup!$F$2:$G$25,2,FALSE) -> #N/A | V11: =IF((S11-M11)>Z11,"Better",IF((S11-M11)<Z11,"Below",IF((S11-M11)=Y11,"ON","ON"))) -> #N/A | W11: =IF((T11-N11)>Z11,"Better",IF((T11-N11)<Y11,"Below",IF((T11-N11)=Y11,"ON","ON"))) -> #N/A | X11: =IF((U11-O11)>Z11,"Better",IF((U11-O11)<Y11,"Below",IF((U11-O11)=Y11,"ON","ON"))) -> #N/A | Y11: =VLOOKUP(C11,lookup!$A$7:$C$15,2,FALSE) -> #N/A | Z11: =VLOOKUP(C11,lookup!$A$7:$C$15,3,FALSE) -> #N/A
M12: =VLOOKUP(J12,lookup!$F$2:$G$25,2,FALSE) -> #N/A | N12: =VLOOKUP(K12,lookup!$F$2:$G$25,2,FALSE) -> #N/A | O12: =VLOOKUP(L12,lookup!$F$2:$G$25,2,FALSE) -> #N/A | S12: =VLOOKUP(P12,lookup!$F$2:$G$25,2,FALSE) -> #N/A | T12: =VLOOKUP(Q12,lookup!$F$2:$G$25,2,FALSE) -> #N/A | U12: =VLOOKUP(R12,lookup!$F$2:$G$25,2,FALSE) -> #N/A | V12: =IF((S12-M12)>Z12,"Better",IF((S12-M12)<Z12,"Below",IF((S12-M12)=Y12,"ON","ON"))) -> #N/A | W12: =IF((T12-N12)>Z12,"Better",IF((T12-N12)<Y12,"Below",IF((T12-N12)=Y12,"ON","ON"))) -> #N/A | X12: =IF((U12-O12)>Z12,"Better",IF((U12-O12)<Y12,"Below",IF((U12-O12)=Y12,"ON","ON"))) -> #N/A | Y12: =VLOOKUP(C12,lookup!$A$7:$C$15,2,FALSE) -> #N/A | Z12: =VLOOKUP(C12,lookup!$A$7:$C$15,3,FALSE) -> #N/A
M13: =VLOOKUP(J13,lookup!$F$2:$G$25,2,FALSE) -> #N/A | N13: =VLOOKUP(K13,lookup!$F$2:$G$25,2,FALSE) -> #N/A | O13: =VLOOKUP(L13,lookup!$F$2:$G$25,2,FALSE) -> #N/A | S13: =VLOOKUP(P13,lookup!$F$2:$G$25,2,FALSE) -> #N/A | T13: =VLOOKUP(Q13,lookup!$F$2:$G$25,2,FALSE) -> #N/A | U13: =VLOOKUP(R13,lookup!$F$2:$G$25,2,FALSE) -> #N/A | V13: =IF((S13-M13)>Z13,"Better",IF((S13-M13)<Z13,"Below",IF((S13-M13)=Y13,"ON","ON"))) -> #N/A | W13: =IF((T13-N13)>Z13,"Better",IF((T13-N13)<Y13,"Below",IF((T13-N13)=Y13,"ON","ON"))) -> #N/A | X13: =IF((U13-O13)>Z13,"Better",IF((U13-O13)<Y13,"Below",IF((U13-O13)=Y13,"ON","ON"))) -> #N/A | Y13: =VLOOKUP(C13,lookup!$A$7:$C$15,2,FALSE) -> #N/A | Z13: =VLOOKUP(C13,lookup!$A$7:$C$15,3,FALSE) -> #N/A
M14: =VLOOKUP(J14,lookup!$F$2:$G$25,2,FALSE) -> #N/A | N14: =VLOOKUP(K14,lookup!$F$2:$G$25,2,FALSE) -> #N/A | O14: =VLOOKUP(L14,lookup!$F$2:$G$25,2,FALSE) -> #N/A | S14: =VLOOKUP(P14,lookup!$F$2:$G$25,2,FALSE) -> #N/A | T14: =VLOOKUP(Q14,lookup!$F$2:$G$25,2,FALSE) -> #N/A | U14: =VLOOKUP(R14,lookup!$F$2:$G$25,2,FALSE) -> #N/A | V14: =IF((S14-M14)>Z14,"Better",IF((S14-M14)<Z14,"Below",IF((S14-M14)=Y14,"ON","ON"))) -> #N/A | W14: =IF((T14-N14)>Z14,"Better",IF((T14-N14)<Y14,"Below",IF((T14-N14)=Y14,"ON","ON"))) -> #N/A | X14: =IF((U14-O14)>Z14,"Better",IF((U14-O14)<Y14,"Below",IF((U14-O14)=Y14,"ON","ON"))) -> #N/A | Y14: =VLOOKUP(C14,lookup!$A$7:$C$15,2,FALSE) -> #N/A | Z14: =VLOOKUP(C14,lookup!$A$7:$C$15,3,FALSE) -> #N/A
M15: =VLOOKUP(J15,lookup!$F$2:$G$25,2,FALSE) -> #N/A | N15: =VLOOKUP(K15,lookup!$F$2:$G$25,2,FALSE) -> #N/A | O15: =VLOOKUP(L15,lookup!$F$2:$G$25,2,FALSE) -> #N/A | S15: =VLOOKUP(P15,lookup!$F$2:$G$25,2,FALSE) -> #N/A | T15: =VLOOKUP(Q15,lookup!$F$2:$G$25,2,FALSE) -> #N/A | U15: =VLOOKUP(R15,lookup!$F$2:$G$25,2,FALSE) -> #N/A | V15: =IF((S15-M15)>Z15,"Better",IF((S15-M15)<Z15,"Below",IF((S15-M15)=Y15,"ON","ON"))) -> #N/A | W15: =IF((T15-N15)>Z15,"Better",IF((T15-N15)<Y15,"Below",IF((T15-N15)=Y15,"ON","ON"))) -> #N/A | X15: =IF((U15-O15)>Z15,"Better",IF((U15-O15)<Y15,"Below",IF((U15-O15)=Y15,"ON","ON"))) -> #N/A | Y15: =VLOOKUP(C15,lookup!$A$7:$C$15,2,FALSE) -> #N/A | Z15: =VLOOKUP(C15,lookup!$A$7:$C$15,3,FALSE) -> #N/A
... M335: =VLOOKUP(J335,lookup!$F$2:$G$25,2,FALSE) -> #N/A | N335: =VLOOKUP(K335,lookup!$F$2:$G$25,2,FALSE) -> #N/A | O335: =VLOOKUP(L335,lookup!$F$2:$G$25,2,FALSE) -> #N/A | S335: =VLOOKUP(P335,lookup!$F$2:$G$25,2,FALSE) -> #N/A | T335: =VLOOKUP(Q335,lookup!$F$2:$G$25,2,FALSE) -> #N/A | U335: =VLOOKUP(R335,lookup!$F$2:$G$25,2,FALSE) -> #N/A | V335: =IF((S335-M335)>Z335,"Better",IF((S335-M335)<Z335,"Below",IF((S335-M335)=Y335,"ON","ON"))) -> #N/A | W335: =IF((T335-N335)>Z335,"Better",IF((T335-N335)<Y335,"Below",IF((T335-N335)=Y335,"ON","ON"))) -> #N/A | X335: =IF((U335-O335)>Z335,"Better",IF((U335-O335)<Y335,"Below",IF((U335-O335)=Y335,"ON","ON"))) -> #N/A | Y335: =VLOOKUP(C335,lookup!$A$7:$C$15,2,FALSE) -> #N/A | Z335: =VLOOKUP(C335,lookup!$A$7:$C$15,3,FALSE) -> #N/A

Sheet lookup
A1: Red | F1: level | G1: points
A2: Amber | F2: 8a | G2: 53
A3: Green | F3: 8b | G3: 51
F4: 8c | G4: 49
F5: 7a | G5: 47
B6: exp | C6: better | F6: 7b | G6: 45
A7: 3 | B7: 3 | C7: 4 | F7: 7c | G7: 43
A8: 4 | B8: 3 | C8: 4 | F8: 6a | G8: 41
A9: 5 | B9: 3 | C9: 4 | F9: 6b | G9: 39
A10: 6 | B10: 3 | C10: 6 | F10: 6c | G10: 37
A11: 7 | B11: 4 | C11: 6 | F11: 5a | G11: 35
A12: 8 | B12: 8 | C12: 12 | F12: 5b | G12: 33
A13: 9 | B13: 12 | C13: 18 | F13: 5c | G13: 31
A14: 10 | B14: 14 | C14: 22 | F14: 4a | G14: 29
A15: 11 | B15: 18 | C15: 24 | F15: 4b | G15: 27
F16: 4c | G16: 25
F17: 3a | G17: 23
F18: 3b | G18: 21
F19: 3c | G19: 19
F20: 2a | G20: 17
F21: 2b | G21: 15
F22: 2c | G22: 13
F23: 1a | G23: 11
F24: 1b | G24: 9
F25: 1c | G25: 7
