Workbook

Sheet Pupil Premium Second
A1: Pupil Premium Students (FSM Ever 6, Children Looked After, Forces Children)
J2: Key Stage 2 | N2: End of Year | R2: Progress | Z2: Interventions
A3: Surname | B3: Forename | C3: Year | D3: Form | E3: EAL | F3: SA+ | G3: State. | H3: Lit | I3: Num | J3: En | K3: Ma | L3: En pts | M3: Ma Pts | N3: En | O3: Ma | P3: En pts | Q3: Ma pts | R3: En | S3: Ma | T3: exp | U3: better | V3: Attend | W3: PA | X3: Excl. | Y3: RAG | Z3: Previous | AA3: Required
L4: =VLOOKUP(J4,lookup!$F$2:$G$33,2,FALSE) -> #N/A | M4: =VLOOKUP(K4,lookup!$F$2:$G$33,2,FALSE) -> #N/A | P4: =VLOOKUP(N4,lookup!$F$2:$G$33,2,FALSE) -> #N/A | Q4: =VLOOKUP(O4,lookup!$F$2:$G$33,2,FALSE) -> #N/A | R4: =IF((P4-L4)>U4,"Better",IF((P4-L4)<T4,"Below",IF((P4-L4)=T4,"ON","ON"))) -> #N/A | S4: =IF((Q4-M4)>U4,"Better",IF((Q4-M4)<T4,"Below",IF((Q4-M4)=T4,"ON","ON"))) -> #N/A | T4: =VLOOKUP(C4,lookup!$A$7:$C$15,2,FALSE) -> #N/A | U4: =VLOOKUP(C4,lookup!$A$7:$C$15,3,FALSE) -> #N/A
L5: =VLOOKUP(J5,lookup!$F$2:$G$33,2,FALSE) -> #N/A | M5: =VLOOKUP(K5,lookup!$F$2:$G$33,2,FALSE) -> #N/A | P5: =VLOOKUP(N5,lookup!$F$2:$G$33,2,FALSE) -> #N/A | Q5: =VLOOKUP(O5,lookup!$F$2:$G$33,2,FALSE) -> #N/A | R5: =IF((P5-L5)>U5,"Better",IF((P5-L5)<T5,"Below",IF((P5-L5)=T5,"ON","ON"))) -> #N/A | S5: =IF((Q5-M5)>U5,"Better",IF((Q5-M5)<T5,"Below",IF((Q5-M5)=T5,"ON","ON"))) -> #N/A | T5: =VLOOKUP(C5,lookup!$A$7:$C$15,2,FALSE) -> #N/A | U5: =VLOOKUP(C5,lookup!$A$7:$C$15,3,FALSE) -> #N/A
L6: =VLOOKUP(J6,lookup!$F$2:$G$33,2,FALSE) -> #N/A | M6: =VLOOKUP(K6,lookup!$F$2:$G$33,2,FALSE) -> #N/A | P6: =VLOOKUP(N6,lookup!$F$2:$G$33,2,FALSE) -> #N/A | Q6: =VLOOKUP(O6,lookup!$F$2:$G$33,2,FALSE) -> #N/A | R6: =IF((P6-L6)>U6,"Better",IF((P6-L6)<T6,"Below",IF((P6-L6)=T6,"ON","ON"))) -> #N/A | S6: =IF((Q6-M6)>U6,"Better",IF((Q6-M6)<T6,"Below",IF((Q6-M6)=T6,"ON","ON"))) -> #N/A | T6: =VLOOKUP(C6,lookup!$A$7:$C$15,2,FALSE) -> #N/A | U6: =VLOOKUP(C6,lookup!$A$7:$C$15,3,FALSE) -> #N/A
L7: =VLOOKUP(J7,lookup!$F$2:$G$33,2,FALSE) -> #N/A | M7: =VLOOKUP(K7,lookup!$F$2:$G$33,2,FALSE) -> #N/A | P7: =VLOOKUP(N7,lookup!$F$2:$G$33,2,FALSE) -> #N/A | Q7: =VLOOKUP(O7,lookup!$F$2:$G$33,2,FALSE) -> #N/A | R7: =IF((P7-L7)>U7,"Better",IF((P7-L7)<T7,"Below",IF((P7-L7)=T7,"ON","ON"))) -> #N/A | S7: =IF((Q7-M7)>U7,"Better",IF((Q7-M7)<T7,"Below",IF((Q7-M7)=T7,"ON","ON"))) -> #N/A | T7: =VLOOKUP(C7,lookup!$A$7:$C$15,2,FALSE) -> #N/A | U7: =VLOOKUP(C7,lookup!$A$7:$C$15,3,FALSE) -> #N/A
L8: =VLOOKUP(J8,lookup!$F$2:$G$33,2,FALSE) -> #N/A | M8: =VLOOKUP(K8,lookup!$F$2:$G$33,2,FALSE) -> #N/A | P8: =VLOOKUP(N8,lookup!$F$2:$G$33,2,FALSE) -> #N/A | Q8: =VLOOKUP(O8,lookup!$F$2:$G$33,2,FALSE) -> #N/A | R8: =IF((P8-L8)>U8,"Better",IF((P8-L8)<T8,"Below",IF((P8-L8)=T8,"ON","ON"))) -> #N/A | S8: =IF((Q8-M8)>U8,"Better",IF((Q8-M8)<T8,"Below",IF((Q8-M8)=T8,"ON","ON"))) -> #N/A | T8: =VLOOKUP(C8,lookup!$A$7:$C$15,2,FALSE) -> #N/A | U8: =VLOOKUP(C8,lookup!$A$7:$C$15,3,FALSE) -> #N/A
L9: =VLOOKUP(J9,lookup!$F$2:$G$33,2,FALSE) -> #N/A | M9: =VLOOKUP(K9,lookup!$F$2:$G$33,2,FALSE) -> #N/A | P9: =VLOOKUP(N9,lookup!$F$2:$G$33,2,FALSE) -> #N/A | Q9: =VLOOKUP(O9,lookup!$F$2:$G$33,2,FALSE) -> #N/A | R9: =IF((P9-L9)>U9,"Better",IF((P9-L9)<T9,"Below",IF((P9-L9)=T9,"ON","ON"))) -> #N/A | S9: =IF((Q9-M9)>U9,"Better",IF((Q9-M9)<T9,"Below",IF((Q9-M9)=T9,"ON","ON"))) -> #N/A | T9: =VLOOKUP(C9,lookup!$A$7:$C$15,2,FALSE) -> #N/A | U9: =VLOOKUP(C9,lookup!$A$7:$C$15,3,FALSE) -> #N/A
L10: =VLOOKUP(J10,lookup!$F$2:$G$33,2,FALSE) -> #N/A | M10: =VLOOKUP(K10,lookup!$F$2:$G$33,2,FALSE) -> #N/A | P10: =VLOOKUP(N10,lookup!$F$2:$G$33,2,FALSE) -> #N/A | Q10: =VLOOKUP(O10,lookup!$F$2:$G$33,2,FALSE) -> #N/A | R10: =IF((P10-L10)>U10,"Better",IF((P10-L10)<T10,"Below",IF((P10-L10)=T10,"ON","ON"))) -> #N/A | S10: =IF((Q10-M10)>U10,"Better",IF((Q10-M10)<T10,"Below",IF((Q10-M10)=T10,"ON","ON"))) -> #N/A | T10: =VLOOKUP(C10,lookup!$A$7:$C$15,2,FALSE) -> #N/A | U10: =VLOOKUP(C10,lookup!$A$7:$C$15,3,FALSE) -> #N/A
L11: =VLOOKUP(J11,lookup!$F$2:$G$33,2,FALSE) -> #N/A | M11: =VLOOKUP(K11,lookup!$F$2:$G$33,2,FALSE) -> #N/A | P11: =VLOOKUP(N11,lookup!$F$2:$G$33,2,FALSE) -> #N/A | Q11: =VLOOKUP(O11,lookup!$F$2:$G$33,2,FALSE) -> #N/A | R11: =IF((P11-L11)>U11,"Better",IF((P11-L11)<T11,"Below",IF((P11-L11)=T11,"ON","ON"))) -> #N/A | S11: =IF((Q11-M11)>U11,"Better",IF((Q11-M11)<T11,"Below",IF((Q11-M11)=T11,"ON","ON"))) -> #N/A | T11: =VLOOKUP(C11,lookup!$A$7:$C$15,2,FALSE) -> #N/A | U11: =VLOOKUP(C11,lookup!$A$7:$C$15,3,FALSE) -> #N/A
L12: =VLOOKUP(J12,lookup!$F$2:$G$33,2,FALSE) -> #N/A | M12: =VLOOKUP(K12,lookup!$F$2:$G$33,2,FALSE) -> #N/A | P12: =VLOOKUP(N12,lookup!$F$2:$G$33,2,FALSE) -> #N/A | Q12: =VLOOKUP(O12,lookup!$F$2:$G$33,2,FALSE) -> #N/A | R12: =IF((P12-L12)>U12,"Better",IF((P12-L12)<T12,"Below",IF((P12-L12)=T12,"ON","ON"))) -> #N/A | S12: =IF((Q12-M12)>U12,"Better",IF((Q12-M12)<T12,"Below",IF((Q12-M12)=T12,"ON","ON"))) -> #N/A | T12: =VLOOKUP(C12,lookup!$A$7:$C$15,2,FALSE) -> #N/A | U12: =VLOOKUP(C12,lookup!$A$7:$C$15,3,FALSE) -> #N/A
L13: =VLOOKUP(J13,lookup!$F$2:$G$33,2,FALSE) -> #N/A | M13: =VLOOKUP(K13,lookup!$F$2:$G$33,2,FALSE) -> #N/A | P13: =VLOOKUP(N13,lookup!$F$2:$G$33,2,FALSE) -> #N/A | Q13: =VLOOKUP(O13,lookup!$F$2:$G$33,2,FALSE) -> #N/A | R13: =IF((P13-L13)>U13,"Better",IF((P13-L13)<T13,"Below",IF((P13-L13)=T13,"ON","ON"))) -> #N/A | S13: =IF((Q13-M13)>U13,"Better",IF((Q13-M13)<T13,"Below",IF((Q13-M13)=T13,"ON","ON"))) -> #N/A | T13: =VLOOKUP(C13,lookup!$A$7:$C$15,2,FALSE) -> #N/A | U13: =VLOOKUP(C13,lookup!$A$7:$C$15,3,FALSE) -> #N/A
L14: =VLOOKUP(J14,lookup!$F$2:$G$33,2,FALSE) -> #N/A | M14: =VLOOKUP(K14,lookup!$F$2:$G$33,2,FALSE) -> #N/A | P14: =VLOOKUP(N14,lookup!$F$2:$G$33,2,FALSE) -> #N/A | Q14: =VLOOKUP(O14,lookup!$F$2:$G$33,2,FALSE) -> #N/A | R14: =IF((P14-L14)>U14,"Better",IF((P14-L14)<T14,"Below",IF((P14-L14)=T14,"ON","ON"))) -> #N/A | S14: =IF((Q14-M14)>U14,"Better",IF((Q14-M14)<T14,"Below",IF((Q14-M14)=T14,"ON","ON"))) -> #N/A | T14: =VLOOKUP(C14,lookup!$A$7:$C$15,2,FALSE) -> #N/A | U14: =VLOOKUP(C14,lookup!$A$7:$C$15,3,FALSE) -> #N/A
L15: =VLOOKUP(J15,lookup!$F$2:$G$33,2,FALSE) -> #N/A | M15: =VLOOKUP(K15,lookup!$F$2:$G$33,2,FALSE) -> #N/A | P15: =VLOOKUP(N15,lookup!$F$2:$G$33,2,FALSE) -> #N/A | Q15: =VLOOKUP(O15,lookup!$F$2:$G$33,2,FALSE) -> #N/A | R15: =IF((P15-L15)>U15,"Better",IF((P15-L15)<T15,"Below",IF((P15-L15)=T15,"ON","ON"))) -> #N/A | S15: =IF((Q15-M15)>U15,"Better",IF((Q15-M15)<T15,"Below",IF((Q15-M15)=T15,"ON","ON"))) -> #N/A | T15: =VLOOKUP(C15,lookup!$A$7:$C$15,2,FALSE) -> #N/A | U15: =VLOOKUP(C15,lookup!$A$7:$C$15,3,FALSE) -> #N/A
... L278: =VLOOKUP(J278,lookup!$F$2:$G$33,2,FALSE) -> #N/A | M278: =VLOOKUP(K278,lookup!$F$2:$G$33,2,FALSE) -> #N/A | P278: =VLOOKUP(N278,lookup!$F$2:$G$33,2,FALSE) -> #N/A | Q278: =VLOOKUP(O278,lookup!$F$2:$G$33,2,FALSE) -> #N/A | R278: =IF((P278-L278)>U278,"Better",IF((P278-L278)<T278,"Below",IF((P278-L278)=T278,"ON","ON"))) -> #N/A | S278: =IF((Q278-M278)>U278,"Better",IF((Q278-M278)<T278,"Below",IF((Q278-M278)=T278,"ON","ON"))) -> #N/A | T278: =VLOOKUP(C278,lookup!$A$7:$C$15,2,FALSE) -> #N/A | U278: =VLOOKUP(C278,lookup!$A$7:$C$15,3,FALSE) -> #N/A

Sheet Flight Paths & Progress
A1: Better than Expected Progress
A2: KS2 Level | B2: End of Y7 | C2: End of Y8 | D2: End of Y9 | E2: End of Y10 | F2: End of Y11
A3: 6c | B3: 7c | C3: 7a | D3: 8b | E3: A | F3: A*
A4: 5a | B4: 6a | C4: 7b | D4: 8c | E4: B | F4: A
A5: 5b | B5: 6b | C5: 7c | D5: 7a | E5: B | F5: A
A6: 5c | B6: 6c | C6: 6a | D6: 7b | E6: B | F6: A
A7: 4a | B7: 5a | C7: 6b | D7: 7c | E7: C | F7: B
A8: 4b | B8: 5b | C8: 6c | D8: 6a | E8: C | F8: B
A9: 4c | B9: 5c | C9: 5a | D9: 6b | E9: C | F9: B
A10: 3a | B10: 4a | C10: 5b | D10: 6c | E10: D | F10: C
A11: 3b | B11: 4b | C11: 5c | D11: 5a | E11: D | F11: C
A12: 3c | B12: 4c | C12: 4a | D12: 5b | E12: D | F12: C
A14: Expected Progress
A15: KS2 Level | B15: End of Y7 | C15: End of Y8 | D15: End of Y9 | E15: End of Y10 | F15: End of Y11
A16: 6c | B16: 6a | C16: 7b | D16: 8c | E16: B | F16: A
A17: 5a | B17: 6b | C17: 7c | D17: 7a | E17: B | F17: B
A18: 5b | B18: 6c | C18: 6a | D18: 7b | E18: B | F18: B
A19: 5c | B19: 5a | C19: 6b | D19: 7c | E19: C | F19: B
A20: 4a | B20: 5b | C20: 6c | D20: 6a | E20: C | F20: C
A21: 4b | B21: 5c | C21: 5a | D21: 6b | E21: C | F21: C
A22: 4c | B22: 4a | C22: 5b | D22: 6c | E22: D | F22: C
A23: 3a | B23: 4b | C23: 5c | D23: 5a | E23: D | F23: D
A24: 3b | B24: 4c | C24: 4a | D24: 5b | E24: D | F24: D
A25: 3c | B25: 3a | C25: 4b | D25: 5c | E25: E | F25: D

Sheet lookup
A1: Red | F1: level | G1: points
A2: Amber | F2: 8a | G2: 53
A3: Green | F3: 8b | G3: 51
F4: 8c | G4: 49
F5: 7a | G5: 47
B6: exp | C6: better | F6: 7b | G6: 45
A7: 3 | B7: 3 | C7: 4 | F7: 7c | G7: 43
A8: 4 | B8: 3 | C8: 4 | F8: 6a | G8: 41
A9: 5 | B9: 3 | C9: 4 | F9: 6b | G9: 39
A10: 6 | B10: 3 | C10: 4 | F10: 6c | G10: 37
A11: 7 | B11: 4 | C11: 6 | F11: 5a | G11: 35
A12: 8 | B12: 8 | C12: 12 | F12: 5b | G12: 33
A13: 9 | B13: 12 | C13: 18 | F13: 5c | G13: 31
A14: 10 | B14: 14 | C14: 22 | F14: 4a | G14: 29
A15: 11 | B15: 18 | C15: 24 | F15: 4b | G15: 27
F16: 4c | G16: 25
F17: 3a | G17: 23
F18: 3b | G18: 21
F19: 3c | G19: 19
F20: 2a | G20: 17
F21: 2b | G21: 15
F22: 2c | G22: 13
F23: 1a | G23: 11
F24: 1b | G24: 9
F25: 1c | G25: 7
F26: A* | G26: 58
F27: A | G27: 52
... F33: G | G33: 16
